
BEGIN:VCALENDAR
VERSION:2.0
PRODID:-//Théâtre au bout là bas - ECPv4.9.3.1//NONSGML v1.0//EN
CALSCALE:GREGORIAN
METHOD:PUBLISH
X-WR-CALNAME:Théâtre au bout là bas
X-ORIGINAL-URL:https://avignon-theatreauboutlabas.com
X-WR-CALDESC:Évènements pour Théâtre au bout là bas
BEGIN:VEVENT
DTSTART;TZID=Europe/Paris:20240703T113500
DTEND;TZID=Europe/Paris:20240721T124000
DTSTAMP:20260424T170003
CREATED:20240605T101507Z
LAST-MODIFIED:20240606T143532Z
UID:2403-1720006500-1721565600@avignon-theatreauboutlabas.com
SUMMARY:Les Contes des Presque Fins du Monde
DESCRIPTION:Les Contes des\nPresque Fins du\nMonde\ndu 3 au 21 juillet relâche les 8\, 15 juillet à 11h35\nDurée 1h05\nà partir de 8 ans\n \nde Brenda J. Simon\nMetteuse en scène : Brenda Simon\nComédiens : Jérémy Berthoud\, Marina Delavau\, Alexis Larrieu\nScénographe : Jean-Pierre Surrel\nCompagnie : Compagnie Diphda \nLa rivière a disparu cette nuit. Tom désespère. Lara s’épuise à crier des statistiques sur le climat que personne n’écoute.\nEt les voilà qui disjonctent. \nSurgit alors un excentrique apothicaire – l’Avenir en personne ! Ainsi commence un voyage à travers contes et langues où tout redevient possible\, des bords de la rivière Penobscot aux villages ouestafricains en passant par Hawai’i. \nMais dans l’ombre rôde un gentleman marionnettique mal intentionné qui a bien l’intention de leur mettre des bâtons dans les roues… \nLa cie diphda explore les thèmes de l’Ailleurs\, de l’Autre\, de l’Imaginaire au travers de la langue poétique et des langues étrangères. Elle défend le pouvoir des histoires à nous relier les un.e.s aux autres. \nSoutiens : Ville de Bordeaux\, Ville de Talence\, Région Nouvelle Aquitaine\, CVEC-Crous Nouvelle Aquitaine \n  \n  \n  \n  \n  \n
URL:https://avignon-theatreauboutlabas.com/theatre-avignon-off/les-contes-des-presque-fins-du-monde/
LOCATION:Théâtre au bout là bas\, 23 rue Noël Biret\, AVIGNON\, 84000\, France
CATEGORIES:Contemporain,Familial
ATTACH;FMTTYPE=image/jpeg:https://avignon-theatreauboutlabas.com/wp-content/uploads/2024/06/conte-des-presques-fins-du-monde2.jpg
END:VEVENT
END:VCALENDAR